BEGIN:VCALENDAR
VERSION:2.0
PRODID:-//Tukios.com/
BEGIN:VEVENT
UID:36dd697a-6bec-4b1b-9242-a6bbfe212e54@www.adamspawpaw.com
DTSTAMP:20260421T170633Z
DTSTART:20260423T140000Z
DTEND:20260423T150000Z
SUMMARY:Visitation
DESCRIPTION:
URL:https://www.adamspawpaw.com/obituaries/barbara-strefling
LOCATION: 122 South Exchange Street  Lawrence MI 49064
GEO:42.2183019;-86.0500526
END:VEVENT
END:VCALENDAR