BEGIN:VCALENDAR
VERSION:2.0
PRODID:-//Tukios.com/
BEGIN:VEVENT
UID:accac2c8-0f59-4d65-bad0-8f9c07a42fb7@www.adamspawpaw.com
DTSTAMP:20260421T170605Z
DTSTART:20260423T150000Z
DTEND:20260423T160000Z
SUMMARY:Funeral Service
DESCRIPTION:
URL:https://www.adamspawpaw.com/obituaries/barbara-strefling
LOCATION: 122 South Exchange Street  Lawrence MI 49064
GEO:42.2183019;-86.0500526
END:VEVENT
END:VCALENDAR