BEGIN:VCALENDAR
VERSION:2.0
PRODID:-//Tukios.com/
BEGIN:VEVENT
UID:cb9bc3e6-84ea-4f55-b5de-0918774c7b3c@www.adamspawpaw.com
DTSTAMP:20260421T004709Z
DTSTART:20260508T200000Z
DTEND:20260508T230000Z
SUMMARY:Visitation
DESCRIPTION:
URL:https://www.adamspawpaw.com/obituaries/leroy-lee-bailey
LOCATION: 502 W Michigan Ave  Paw Paw MI 49079
GEO:42.2176252;-85.9031785
END:VEVENT
END:VCALENDAR